BEGIN:VCALENDAR
VERSION:2.0
PRODID:-//eventon.com NONSGML v1.0//EN
BEGIN:VEVENT
UID:69eb93362b0b8
DTSTAMP:20260424T115846
DTSTART:20160625T220000Z
DTEND:20160626T010000Z
LOCATION:Girls&#039; Club Annex 117 NE 2 Street\,  Fort Lauderdale\,  FL
SUMMARY:Opening Reception: Flip Out: Artists' Sketchbooks
DESCRIPTION: Curated by Mariela Acuna and Brooke Frank.
URL:https://girlsclubcollection.org/events/opening-reception-flip-out-artists-sketchbooks/
END:VEVENT
END:VCALENDAR