BEGIN:VCALENDAR
VERSION:2.0
PRODID:-//eventon.com NONSGML v1.0//EN
BEGIN:VEVENT
UID:69eb92d67bced
DTSTAMP:20260424T115710
DTSTART:20150228T170000Z
DTEND:20150228T200000Z
LOCATION:Girls&#039; Club 117 NE 2nd Street\,  Fort Lauderdale
SUMMARY:Visiting Artist: Lisa Sanditz Workshop
DESCRIPTION: The Sublime has long been associated with the American Landscape. Traditionally linked to the wilderness\,  it can also be found right in your own back yard - when the light is beautiful\,  or the season is changing\,  or the high-rise condo is magnificently evermore skyward. In this this workshop by[..]
URL:https://girlsclubcollection.org/events/visiting-artist-lisa-sanditz-workshop/
END:VEVENT
END:VCALENDAR